BEGIN:VCALENDAR
PRODID:-//Axletree Media Connect v.2//NONSGML v1.0//EN
VERSION:2.0
METHOD:PUBLISH
BEGIN:VEVENT
DTSTART:20260405T110000
DTEND:20260405T121500
UID:100243920260405
DTSTAMP:20260419T111000
LOCATION:
DESCRIPTION;ENCODING=QUOTED-PRINTABLE:
SUMMARY:Morning Worship
END:VEVENT
BEGIN:VEVENT
DTSTART:20260412T110000
DTEND:20260412T121500
UID:100243920260412
DTSTAMP:20260419T111000
LOCATION:
DESCRIPTION;ENCODING=QUOTED-PRINTABLE:
SUMMARY:Morning Worship
END:VEVENT
BEGIN:VEVENT
DTSTART:20260419T110000
DTEND:20260419T121500
UID:100243920260419
DTSTAMP:20260419T111000
LOCATION:
DESCRIPTION;ENCODING=QUOTED-PRINTABLE:
SUMMARY:Morning Worship
END:VEVENT
BEGIN:VEVENT
DTSTART:20260426T110000
DTEND:20260426T121500
UID:100243920260426
DTSTAMP:20260419T111000
LOCATION:
DESCRIPTION;ENCODING=QUOTED-PRINTABLE:
SUMMARY:Morning Worship
END:VEVENT
END:VCALENDAR
